BEGIN:VCALENDAR
VERSION:2.0
PRODID:-//Squarespace Inc/Squarespace 6//v6//EN
BEGIN:VEVENT
UID:5a330655085229e36d8c017f@squarespace.com
DTSTAMP:20171214T231828Z
DTSTART:20180816T100000Z
DTEND:20180816T120000Z
SUMMARY:Information Night on Bird Photography
GEO:-34.810765;138.617304
LOCATION:Room MC2.03 Mawson Centre\, 2-8 Main Street\, Mawson Lakes\, SA\, 
 5095\, Australia
END:VEVENT
END:VCALENDAR
