BEGIN:VCALENDAR
VERSION:2.0
PRODID:-//Squarespace Inc/Squarespace 6//v6//EN
BEGIN:VEVENT
UID:5a3309dd9140b764378ac2d4@squarespace.com
DTSTAMP:20181016T221855Z
DTSTART:20181018T090000Z
DTEND:20181018T110000Z
SUMMARY:Information Night - Camera Basics
GEO:-34.810765;138.617304
LOCATION:Room MC1.05 Mawson Centre\, 2-8 Main Street\, Mawson Lakes\, SA\, 
 5095\, Australia
END:VEVENT
END:VCALENDAR
