BEGIN:VCALENDAR
VERSION:2.0
PRODID:-//Squarespace Inc/Squarespace 6//v6//EN
BEGIN:VEVENT
UID:5a28a0129140b775cdd53270@squarespace.com
DTSTAMP:20180213T024131Z
DTSTART:20180215T090000Z
DTEND:20180215T110000Z
SUMMARY:Information Night on Exhibition and Competition Entires
GEO:-34.810765;138.617304
LOCATION:Room MC1.05 Mawson Centre\, 2-8 Main Street\, Mawson Lakes\, SA\, 
 5095\, Australia
END:VEVENT
END:VCALENDAR
