BEGIN:VCALENDAR
VERSION:2.0
PRODID:-//Squarespace Inc/Squarespace 6//v6//EN
BEGIN:VEVENT
UID:5a384688f9619a424ba19310@squarespace.com
DTSTAMP:20171229T044112Z
DTSTART:20180207T083000Z
DTEND:20180207T093000Z
SUMMARY:Committee Meeting
GEO:-34.814;138.612
LOCATION:Room J1.01 UniSA Mawson Lakes Campus\, Mawson Lakes\, SA\, 5095\, 
 Australia
END:VEVENT
END:VCALENDAR
