BEGIN:VCALENDAR
VERSION:2.0
PRODID:-//Squarespace Inc/Squarespace 6//v6//EN
BEGIN:VEVENT
UID:5a384669652dea7bc2433ad1@squarespace.com
DTSTAMP:20180116T033307Z
DTSTART:20180117T083000Z
DTEND:20180117T093000Z
SUMMARY:Committee Meeting
GEO:-34.810765;138.617304
LOCATION:Room MC2.03 Mawson Centre\, 2-8 Main Street\, Mawson Lakes\, SA\, 
 5095\, Australia
END:VEVENT
END:VCALENDAR
