BEGIN:VCALENDAR
VERSION:2.0
PRODID:-//Squarespace Inc/Squarespace 6//v6//EN
BEGIN:VEVENT
UID:5a32f3df53450a8ff18ec24f@squarespace.com
DTSTAMP:20180208T215909Z
DTSTART:20180307T083000Z
DTEND:20180307T093000Z
SUMMARY:Committee Meeting
GEO:-34.810765;138.617304
LOCATION:Room MC1.05 Mawson Centre\, 2-8 Main Street\, Mawson Lakes\, SA\, 
 5095\, Australia
END:VEVENT
END:VCALENDAR
