BEGIN:VCALENDAR
VERSION:2.0
PRODID:-//Squarespace Inc/Squarespace 6//v6//EN
BEGIN:VEVENT
UID:5c495ce5cd8366102839aac3@squarespace.com
DTSTAMP:20190212T082758Z
DTSTART:20190321T090000Z
DTEND:20190321T110000Z
SUMMARY:Basics -  Depth of Field &amp\; Basic Equipment Maintenance
GEO:-34.810765;138.617304
LOCATION:Room MC1.05 Mawson Centre\, 2-8 Main Street\, Mawson Lakes\, SA\, 
 5095\, Australia
END:VEVENT
END:VCALENDAR
