BEGIN:VCALENDAR
VERSION:2.0
PRODID:-//Squarespace Inc/Squarespace 6//v6//EN
BEGIN:VEVENT
UID:5c495c4c0ebbe8f531dba5b3@squarespace.com
DTSTAMP:20190224T075316Z
DTSTART:20190404T090000Z
DTEND:20190404T110000Z
SUMMARY:Guest Speaker - Scott McCarten - Abandoned Buildings (TBC)
GEO:-34.810765;138.617304
LOCATION:Room MC1.05 Mawson Centre\, 2-8 Main Street\, Mawson Lakes\, SA\, 
 5095\, Australia
END:VEVENT
END:VCALENDAR
