BEGIN:VCALENDAR
VERSION:2.0
PRODID:-//Squarespace Inc/Squarespace 6//v6//EN
BEGIN:VEVENT
UID:5c495bb3b91c91570028e309@squarespace.com
DTSTAMP:20190212T075556Z
DTSTART:20190221T090000Z
DTEND:20190221T110000Z
SUMMARY:Black and White Photography Discussion - Bring your camera
GEO:-34.810765;138.617304
LOCATION:Room MC1.05 Mawson Centre\, 2-8 Main Street\, Mawson Lakes\, SA\, 
 5095\, Australia
END:VEVENT
END:VCALENDAR
