BEGIN:VCALENDAR
VERSION:2.0
PRODID:-//Squarespace Inc/Squarespace 6//v6//EN
BEGIN:VEVENT
UID:5c5626e0085229a138ad4861@squarespace.com
DTSTAMP:20190906T222352Z
DTSTART:20191121T090000Z
DTEND:20191121T110000Z
SUMMARY:Club Meeting - Discussion on what the club should do in 2020
GEO:-34.810765;138.617304
LOCATION:Room MC1.05 Mawson Centre\, 2-8 Main Street\, Mawson Lakes\, SA\, 
 5095\, Australia
END:VEVENT
END:VCALENDAR
