BEGIN:VCALENDAR
VERSION:2.0
PRODID:-//Squarespace Inc/Squarespace 6//v6//EN
BEGIN:VEVENT
UID:5c562551ec212d2d5a9c8164@squarespace.com
DTSTAMP:20190224T081004Z
DTSTART:20191017T090000Z
DTEND:20191017T110000Z
SUMMARY:Club Meeting - Portrait Critique Night
GEO:-34.810765;138.617304
LOCATION:Room MC1.05 Mawson Centre\, 2-8 Main Street\, Mawson Lakes\, SA\, 
 5095\, Australia
END:VEVENT
END:VCALENDAR
