BEGIN:VCALENDAR
VERSION:2.0
PRODID:-//Squarespace Inc/Squarespace 6//v6//EN
BEGIN:VEVENT
UID:5dd6843247de3255302c4ac6@squarespace.com
DTSTAMP:20200202T112530Z
DTSTART:20200206T090000Z
DTEND:20200206T110000Z
SUMMARY:Club Meeting  -  (Room MC 2.03) photo walk around Mawson Lakes 
GEO:-34.810765;138.617304
LOCATION:Room MC2.03 Mawson Centre\, 2-8 Main Street\, Mawson Lakes\, SA\, 
 5095\, Australia
END:VEVENT
END:VCALENDAR
