BEGIN:VCALENDAR
VERSION:2.0
PRODID:-//Squarespace Inc/Squarespace 6//v6//EN
BEGIN:VEVENT
UID:5dd685980e89843019ebb1aa@squarespace.com
DTSTAMP:20191121T124101Z
DTSTART:20200212T143000Z
DTEND:20200213T132900Z
SUMMARY: Projected Images - Competition Entries Due
GEO:-34.810765;138.617304
LOCATION:Room MC1.05 Mawson Centre\, 2-8 Main Street\, Mawson Lakes\, SA\, 
 5095\, Australia
END:VEVENT
END:VCALENDAR
