BEGIN:VCALENDAR
VERSION:2.0
PRODID:-//Squarespace Inc/Squarespace 6//v6//EN
BEGIN:VEVENT
UID:5c7251189b747a1582beb3c9@squarespace.com
DTSTAMP:20190224T080919Z
DTSTART:20191009T083000Z
DTEND:20191009T103000Z
SUMMARY:Committee Meeting (1 of 2 for October)
GEO:-34.810765;138.617304
LOCATION:Room MC1.05 Mawson Centre\, 2-8 Main Street\, Mawson Lakes\, SA\, 
 5095\, Australia
END:VEVENT
END:VCALENDAR
