BEGIN:VCALENDAR
VERSION:2.0
PRODID:-//Squarespace Inc/Squarespace 6//v6//EN
BEGIN:VEVENT
UID:5c5625eb53450aaf3bc3e384@squarespace.com
DTSTAMP:20190224T081018Z
DTSTART:20191023T083000Z
DTEND:20191023T103000Z
SUMMARY:Committee Meeting (2 of 2 for October)
GEO:-34.810765;138.617304
LOCATION:Room MC1.05 Mawson Centre\, 2-8 Main Street\, Mawson Lakes\, SA\, 
 5095\, Australia
END:VEVENT
END:VCALENDAR
