BEGIN:VCALENDAR
VERSION:2.0
PRODID:-//Squarespace Inc/Squarespace 6//v6//EN
BEGIN:VEVENT
UID:5c562561f9619a9f9158354e@squarespace.com
DTSTAMP:20191023T115829Z
DTSTART:20191031T132800Z
DTEND:20191031T132900Z
SUMMARY:Projected Images - Competition Entries Due
GEO:-34.810765;138.617304
LOCATION:Room MC1.05 Mawson Centre\, 2-8 Main Street\, Mawson Lakes\, SA\, 
 5095\, Australia
END:VEVENT
END:VCALENDAR
