BEGIN:VCALENDAR
VERSION:2.0
PRODID:-//Squarespace Inc/Squarespace 6//v6//EN
BEGIN:VEVENT
UID:5c5624fcc83025d1e844d7f4@squarespace.com
DTSTAMP:20190713T220327Z
DTSTART:20191003T100000Z
DTEND:20191003T120000Z
SUMMARY:Club Meeting  - Talk on Photojournalism with Barry O'Brien
GEO:-34.810765;138.617304
LOCATION:Room MC1.05 Mawson Centre\, 2-8 Main Street\, Mawson Lakes\, SA\, 
 5095\, Australia
END:VEVENT
END:VCALENDAR
