BEGIN:VCALENDAR
VERSION:2.0
PRODID:-//Squarespace Inc/Squarespace 6//v6//EN
BEGIN:VEVENT
UID:5c5624e7e4966b0b81d76810@squarespace.com
DTSTAMP:20190727T011807Z
DTSTART:20190919T100000Z
DTEND:20190919T120000Z
SUMMARY:Guest Speaker - David Rowlands - Macro Photography
GEO:-34.810765;138.617304
LOCATION:Room MC1.05 Mawson Centre\, 2-8 Main Street\, Mawson Lakes\, SA\, 
 5095\, Australia
END:VEVENT
END:VCALENDAR
