BEGIN:VCALENDAR
VERSION:2.0
PRODID:-//Squarespace Inc/Squarespace 6//v6//EN
BEGIN:VEVENT
UID:5c562484419202e8ac183ddf@squarespace.com
DTSTAMP:20190723T210214Z
DTSTART:20190905T100000Z
DTEND:20190905T120000Z
SUMMARY:Club Meeting - Portrait Practical Session with Tony Cipriano
GEO:-34.810765;138.617304
LOCATION:Room MC1.05 Mawson Centre\, 2-8 Main Street\, Mawson Lakes\, SA\, 
 5095\, Australia
END:VEVENT
END:VCALENDAR
