BEGIN:VCALENDAR
VERSION:2.0
PRODID:-//Squarespace Inc/Squarespace 6//v6//EN
BEGIN:VEVENT
UID:5c724f7b4785d303f1c5bb0a@squarespace.com
DTSTAMP:20190827T080838Z
DTSTART:20190829T100000Z
DTEND:20190829T120000Z
SUMMARY:Club Outing - Photo Walk - Harts Mill Port Adelaide
GEO:-34.844682;138.498739
LOCATION:harts mill\, 9A Mundy St\, Port Adelaide\, SA\, 5015\, Australia
END:VEVENT
END:VCALENDAR
