BEGIN:VCALENDAR
VERSION:2.0
PRODID:-//Squarespace Inc/Squarespace 6//v6//EN
BEGIN:VEVENT
UID:5c56244753450aaf3bc3d430@squarespace.com
DTSTAMP:20190812T121402Z
DTSTART:20190815T100000Z
DTEND:20190815T120000Z
SUMMARY:Presentation - Creating Photo Albums and Other Ways of Sharing Phot
 os
GEO:-34.810765;138.617304
LOCATION:Room MC1.05 Mawson Centre\, 2-8 Main Street\, Mawson Lakes\, SA\, 
 5095\, Australia
END:VEVENT
END:VCALENDAR
