BEGIN:VCALENDAR
VERSION:2.0
PRODID:-//Squarespace Inc/Squarespace 6//v6//EN
BEGIN:VEVENT
UID:5c724f28ee6eb02c2ae2dd58@squarespace.com
DTSTAMP:20190224T080104Z
DTSTART:20190706T100000Z
DTEND:20190706T120000Z
SUMMARY:Club Outing - Astro Photography - Details TBA
GEO:-34.810765;138.617304
LOCATION:Room MC1.05 Mawson Centre\, 2-8 Main Street\, Mawson Lakes\, SA\, 
 5095\, Australia
END:VEVENT
END:VCALENDAR
