BEGIN:VCALENDAR
VERSION:2.0
PRODID:-//Squarespace Inc/Squarespace 6//v6//EN
BEGIN:VEVENT
UID:5c4965b81ae6cfa56b5a2644@squarespace.com
DTSTAMP:20190703T231928Z
DTSTART:20190704T100000Z
DTEND:20190704T120000Z
SUMMARY:Activities  Night - Light Tent Photography + Astro Night Info
GEO:-34.810765;138.617304
LOCATION:Room MC1.05 Mawson Centre\, 2-8 Main Street\, Mawson Lakes\, SA\, 
 5095\, Australia
END:VEVENT
END:VCALENDAR
