BEGIN:VCALENDAR
VERSION:2.0
PRODID:-//Squarespace Inc/Squarespace 6//v6//EN
BEGIN:VEVENT
UID:5c495f8e21c67c9156382b6a@squarespace.com
DTSTAMP:20190124T070113Z
DTSTART:20190530T100000Z
DTEND:20190530T120000Z
SUMMARY:Club Outing - Light Painting 
GEO:-34.825262;138.486161
LOCATION:Largs Bay Beach\, 1 Esplanade\, Largs Bay\, SA\, 5016\, Australia
END:VEVENT
END:VCALENDAR
