BEGIN:VCALENDAR
VERSION:2.0
PRODID:-//Squarespace Inc/Squarespace 6//v6//EN
BEGIN:VEVENT
UID:5c4965f0352f534aa6449ab9@squarespace.com
DTSTAMP:20190224T080028Z
DTSTART:20190718T100000Z
DTEND:20190718T120000Z
SUMMARY:MLPC Annual General Meeting
GEO:-34.810765;138.617304
LOCATION:Room MC1.05 Mawson Centre\, 2-8 Main Street\, Mawson Lakes\, SA\, 
 5095\, Australia
END:VEVENT
END:VCALENDAR
