BEGIN:VCALENDAR
VERSION:2.0
PRODID:-//Squarespace Inc/Squarespace 6//v6//EN
BEGIN:VEVENT
UID:5c4963c4898583c251403d76@squarespace.com
DTSTAMP:20190124T070802Z
DTSTART:20190606T100000Z
DTEND:20190606T120000Z
SUMMARY:Friendly Critique Night - Bring your Light Painting or Creative Wor
 k
GEO:-34.810765;138.617304
LOCATION:Room MC1.05 Mawson Centre\, 2-8 Main Street\, Mawson Lakes\, SA\, 
 5095\, Australia
END:VEVENT
END:VCALENDAR
