BEGIN:VCALENDAR
VERSION:2.0
PRODID:-//Squarespace Inc/Squarespace 6//v6//EN
BEGIN:VEVENT
UID:5c495f101ae6cfa56b59ff76@squarespace.com
DTSTAMP:20190224T075826Z
DTSTART:20190516T100000Z
DTEND:20190516T120000Z
SUMMARY:Information Night - Preparation for Entering the Exhibition (part 1
 ) and Light Painting Info
GEO:-34.810765;138.617304
LOCATION:Room MC1.05 Mawson Centre\, 2-8 Main Street\, Mawson Lakes\, SA\, 
 5095\, Australia
END:VEVENT
END:VCALENDAR
