BEGIN:VCALENDAR
VERSION:2.0
PRODID:-//Squarespace Inc/Squarespace 6//v6//EN
BEGIN:VEVENT
UID:5a33061871c10b467bc48d3b@squarespace.com
DTSTAMP:20190124T063107Z
DTSTART:20190207T090000Z
DTEND:20190207T110000Z
SUMMARY:Information Night and Photo Walk Challenge - Bring Your Camera
GEO:-34.810765;138.617304
LOCATION:Room MC1.05 Mawson Centre\, 2-8 Main Street\, Mawson Lakes\, SA\, 
 5095\, Australia
END:VEVENT
END:VCALENDAR
