BEGIN:VCALENDAR
VERSION:2.0
PRODID:-//Squarespace Inc/Squarespace 6//v6//EN
BEGIN:VEVENT
UID:5a330a0cf9619a424b041603@squarespace.com
DTSTAMP:20181027T074053Z
DTSTART:20181101T090000Z
DTEND:20181101T110000Z
SUMMARY:Visit to Diamonds Cameras
GEO:-34.922563;138.607969
LOCATION:Diamonds Cameras\, Rundle Street\, Adelaide\, SA\, 5000\, Australi
 a
END:VEVENT
END:VCALENDAR
