BEGIN:VCALENDAR
VERSION:2.0
PRODID:-//Squarespace Inc/Squarespace 6//v6//EN
BEGIN:VEVENT
UID:5a28a1439140b775cdd56a11@squarespace.com
DTSTAMP:20180208T215920Z
DTSTART:20180301T090000Z
DTEND:20180301T110000Z
SUMMARY:Social Evening - Bring Your Camera
GEO:-34.810765;138.617304
LOCATION:Room MC1.05 Mawson Centre\, 2-8 Main Street\, Mawson Lakes\, SA\, 
 5095\, Australia
END:VEVENT
END:VCALENDAR
