BEGIN:VCALENDAR
VERSION:2.0
PRODID:-//Squarespace Inc/Squarespace 6//v6//EN
BEGIN:VEVENT
UID:5a33099d8165f5e58a2c8e07@squarespace.com
DTSTAMP:20171214T233125Z
DTSTART:20181012T223000Z
DTEND:20181013T063000Z
SUMMARY:Club Outing - Old Tailem Town
END:VEVENT
END:VCALENDAR
