BEGIN:VCALENDAR
VERSION:2.0
PRODID:-//Squarespace Inc/Squarespace 6//v6//EN
BEGIN:VEVENT
UID:5c496a0a1ae6cfa56b5a3df4@squarespace.com
DTSTAMP:20190224T080831Z
DTSTART:20191004T100000Z
DTEND:20191108T103000Z
SUMMARY:2019 Annual Exhibition
GEO:-34.810765;138.617304
LOCATION:Mawson Centre\, 2-8 Main Street\, Mawson Lakes\, SA\, 5095\, Austr
 alia
END:VEVENT
END:VCALENDAR
