BEGIN:VCALENDAR
VERSION:2.0
PRODID:-//Squarespace Inc/Squarespace 6//v6//EN
BEGIN:VEVENT
UID:5a3308bf71c10b467bc50166@squarespace.com
DTSTAMP:20171229T044617Z
DTSTART:20181005T100000Z
DTEND:20181101T223000Z
SUMMARY:2018 Annual Exhibition
GEO:-34.810765;138.617304
LOCATION:Mawson Centre\, 2-8 Main Street\, Mawson Lakes\, SA\, 5095\, Austr
 alia
END:VEVENT
END:VCALENDAR
