BEGIN:VCALENDAR
VERSION:2.0
PRODID:-//Squarespace Inc/Squarespace 6//v6//EN
BEGIN:VEVENT
UID:5a330a6aec212d3032c06aa4@squarespace.com
DTSTAMP:20171214T233430Z
DTSTART:20181206T083000Z
DTEND:20181206T093000Z
SUMMARY:Christmas Dinner
END:VEVENT
END:VCALENDAR
