BEGIN:VCALENDAR
VERSION:2.0
PRODID:-//Squarespace Inc/Squarespace 6//v6//EN
BEGIN:VEVENT
UID:5a22549ee4966bbfda1bce18@squarespace.com
DTSTAMP:20171214T215626Z
DTSTART:20180201T090000Z
DTEND:20180201T110000Z
SUMMARY:Welcome Back/Social Night
GEO:-34.810765;138.617304
LOCATION:Room MC2.03 Mawson Centre\, 2-8 Main Street\, Mawson Lakes\, SA\, 
 5095\, Australia
END:VEVENT
END:VCALENDAR
