BEGIN:VCALENDAR
VERSION:2.0
PRODID:-//Squarespace Inc/Squarespace 6//v6//EN
BEGIN:VEVENT
UID:5a289fc48165f56fcbf6c389@squarespace.com
DTSTAMP:20180208T220129Z
DTSTART:20180210T083000Z
DTEND:20180210T103000Z
SUMMARY:City Walk
GEO:-34.92652;138.601232
LOCATION:Meet at the Pilgrim Church\, 12 Flinders Street\, Adelaide\, SA\, 
 5000\, Australia
END:VEVENT
END:VCALENDAR
