BEGIN:VCALENDAR
VERSION:2.0
PRODID:-//Squarespace Inc/Squarespace 6//v6//EN
BEGIN:VEVENT
UID:5e51d0186dd0756fb8e2c144@squarespace.com
DTSTAMP:20200223T010735Z
DTSTART:20200820T100000Z
DTEND:20200820T120000Z
SUMMARY:Competition Night - People/Portraits and Open
GEO:-34.810765;138.617304
LOCATION:MC1.03 Mawson Centre\, 2-8 Main Street\, Mawson Lakes\, SA\, 5095\
 , Australia
END:VEVENT
END:VCALENDAR
