BEGIN:VCALENDAR
VERSION:2.0
PRODID:-//Squarespace Inc/Squarespace 6//v6//EN
BEGIN:VEVENT
UID:5e51d066b9df9733ccf6f83e@squarespace.com
DTSTAMP:20200223T010921Z
DTSTART:20201119T090000Z
DTEND:20201119T110000Z
SUMMARY:Competition Night - Set Subject -Back and White and Open
GEO:-34.810765;138.617304
LOCATION:MC1.05 Mawson Centre\, 2-8 Main Street\, Mawson Lakes\, SA\, 5095\
 , Australia
END:VEVENT
END:VCALENDAR
