BEGIN:VCALENDAR
VERSION:2.0
PRODID:-//Squarespace Inc/Squarespace 6//v6//EN
BEGIN:VEVENT
UID:5e51cf9dc762610ac554752b@squarespace.com
DTSTAMP:20200223T010552Z
DTSTART:20200521T100000Z
DTEND:20200521T120000Z
SUMMARY:Competition Night - Set Subject - the colour RED and Open
GEO:-34.810765;138.617304
LOCATION:MC1.05 Mawson Centre\, 2-8 Main Street\, Mawson Lakes\, SA\, 5095\
 , Australia
END:VEVENT
END:VCALENDAR
