BEGIN:VCALENDAR
VERSION:2.0
PRODID:-//Squarespace Inc/Squarespace 6//v6//EN
BEGIN:VEVENT
UID:5dd6846fdda0127101ba9e13@squarespace.com
DTSTAMP:20191121T123725Z
DTSTART:20200220T090000Z
DTEND:20200220T110000Z
SUMMARY:Competition Night - Landscape/Seascape and Open
GEO:-34.810765;138.617304
LOCATION:MC1.05 Mawson Centre\, 2-8 Main Street\, Mawson Lakes\, SA\, 5095\
 , Australia
END:VEVENT
END:VCALENDAR
