BEGIN:VCALENDAR
VERSION:2.0
PRODID:-//Squarespace Inc/Squarespace 6//v6//EN
BEGIN:VEVENT
UID:5c56263ee2c483c7b073747e@squarespace.com
DTSTAMP:20190202T232358Z
DTSTART:20191107T090000Z
DTEND:20191107T110000Z
SUMMARY:Competition Night - Action and Open
GEO:-34.810765;138.617304
LOCATION:MC1.05 Mawson Centre\, 2-8 Main Street\, Mawson Lakes\, SA\, 5095\
 , Australia
END:VEVENT
END:VCALENDAR
