BEGIN:VCALENDAR
VERSION:2.0
PRODID:-//Squarespace Inc/Squarespace 6//v6//EN
BEGIN:VEVENT
UID:5c49645940ec9a50cd29e3a4@squarespace.com
DTSTAMP:20190509T041048Z
DTSTART:20190620T100000Z
DTEND:20190620T120000Z
SUMMARY:Competition Night  - Black &amp\; White and Open Colour (Prints Onl
 y Compeition)
GEO:-34.810765;138.617304
LOCATION:MC1.05 Mawson Centre\, 2-8 Main Street\, Mawson Lakes\, SA\, 5095\
 , Australia
END:VEVENT
END:VCALENDAR
