BEGIN:VCALENDAR
VERSION:2.0
PRODID:-//Squarespace Inc/Squarespace 6//v6//EN
BEGIN:VEVENT
UID:5c495c88b8a0454731ded535@squarespace.com
DTSTAMP:20190224T074924Z
DTSTART:20190307T090000Z
DTEND:20190307T110000Z
SUMMARY:Competition Night - Things in the Kitchen and Open
GEO:-34.810765;138.617304
LOCATION:MC1.05 Mawson Centre\, 2-8 Main Street\, Mawson Lakes\, SA\, 5095\
 , Australia
END:VEVENT
END:VCALENDAR
