BEGIN:VCALENDAR
VERSION:2.0
PRODID:-//Squarespace Inc/Squarespace 6//v6//EN
BEGIN:VEVENT
UID:5a330a42085229e36d8cadab@squarespace.com
DTSTAMP:20171219T012259Z
DTSTART:20181115T090000Z
DTEND:20181115T110000Z
SUMMARY:Competition Night - Old World and Open
GEO:-34.810765;138.617304
LOCATION:MC1.05 Mawson Centre\, 2-8 Main Street\, Mawson Lakes\, SA\, 5095\
 , Australia
END:VEVENT
END:VCALENDAR
