BEGIN:VCALENDAR
VERSION:2.0
PRODID:-//Squarespace Inc/Squarespace 6//v6//EN
BEGIN:VEVENT
UID:5a330779652dea7bc2a5878a@squarespace.com
DTSTAMP:20180624T032129Z
DTSTART:20180920T100000Z
DTEND:20180920T120000Z
SUMMARY:Competition Night - Portrait and Open
GEO:-34.810765;138.617304
LOCATION:MC1.05 Mawson Centre\, 2-8 Main Street\, Mawson Lakes\, SA\, 5095\
 , Australia
END:VEVENT
END:VCALENDAR
