BEGIN:VCALENDAR
VERSION:2.0
PRODID:-//Squarespace Inc/Squarespace 6//v6//EN
BEGIN:VEVENT
UID:5a28a19be2c483218c73fb0f@squarespace.com
DTSTAMP:20180213T024232Z
DTSTART:20180315T090000Z
DTEND:20180315T110000Z
SUMMARY:Competition Night - Street Photography and Open
GEO:-34.810765;138.617304
LOCATION:MC1.05 Mawson Centre\, 2-8 Main Street\, Mawson Lakes\, SA\, 5095\
 , Australia
END:VEVENT
END:VCALENDAR
