BEGIN:VCALENDAR
VERSION:2.0
PRODID:-//Squarespace Inc/Squarespace 6//v6//EN
BEGIN:VEVENT
UID:5c724e0d1905f442e8f96f56@squarespace.com
DTSTAMP:20190509T040953Z
DTSTART:20190519T003000Z
DTEND:20190519T073000Z
SUMMARY:Club Outing - Photo Walk - Mount Lofty Botanitcal Gardens
GEO:-34.986829;138.719466
LOCATION:Mount Lofty Botanical\, Crafers\, SA\, 5152\, Australia
END:VEVENT
END:VCALENDAR
