BEGIN:VCALENDAR
VERSION:2.0
PRODID:-//Squarespace Inc/Squarespace 6//v6//EN
BEGIN:VEVENT
UID:5dff743696c1db55a0db0973@squarespace.com
DTSTAMP:20191222T134853Z
DTSTART:20200708T093000Z
DTEND:20200708T103000Z
SUMMARY:Committee Meeting
GEO:-34.810765;138.617304
LOCATION:Room MC2-07 Mawson Centre\, 2-8 Main Street\, Mawson Lakes\, SA\, 
 5095\, Australia
END:VEVENT
END:VCALENDAR
