BEGIN:VCALENDAR
VERSION:2.0
PRODID:-//Squarespace Inc/Squarespace 6//v6//EN
BEGIN:VEVENT
UID:5dff72fe8c6e911e4ffa917d@squarespace.com
DTSTAMP:20191222T134540Z
DTSTART:20200115T083000Z
DTEND:20200115T093000Z
SUMMARY:Committee Meeting
GEO:-34.810765;138.617304
LOCATION:Room G1-18 Mawson Centre\, 2-8 Main Street\, Mawson Lakes\, SA\, 5
 095\, Australia
END:VEVENT
END:VCALENDAR
