BEGIN:VCALENDAR
VERSION:2.0
PRODID:-//Squarespace Inc/Squarespace 6//v6//EN
BEGIN:VEVENT
UID:5c49698403ce64a98709c262@squarespace.com
DTSTAMP:20190124T073028Z
DTSTART:20191113T083000Z
DTEND:20191113T093000Z
SUMMARY:Committee Meeting
GEO:-34.810765;138.617304
LOCATION:Room MC1.05 Mawson Centre\, 2-8 Main Street\, Mawson Lakes\, SA\, 
 5095\, Australia
END:VEVENT
END:VCALENDAR
